BEGIN:VCALENDAR
VERSION:2.0
PRODID:-//Unitre San Mauro//NONSGML kigkonsult.se iCalcreator 2.30.10//
CALSCALE:GREGORIAN
METHOD:PUBLISH
UID:ef3faa1c-b469-46cb-ad8d-a7e3bbf30062
X-WR-CALNAME:iCagenda
X-WR-CALDESC:Event Management Extension for Joomla!
X-WR-RELCALID:3E26604A-50F4-4449-8B3E-E4F4932D05B5
X-WR-TIMEZONE:UTC
BEGIN:VTIMEZONE
TZID:UTC
END:VTIMEZONE
BEGIN:VEVENT
UID:8962b78f-9f1b-4250-8bc8-87631621ddba
DTSTAMP:20260422T150510Z
CATEGORIES:Attività e movimento
CLASS:PUBLIC
DESCRIPTION:
DTSTART:20260421T093000Z
DTEND:20260421T093000Z
GEO:00;0
LOCATION:
ORGANIZER:
SEQUENCE:1
SUMMARY:Biodanza : Corso avanzato ( corso a numero chiuso) - c/o Piscina Gr
 amsci\, via del porto 13\, San Mauro - Palestra Grande
TRANSP:OPAQUE
URL:https://www.unitresanmauro.it/index.php/component/icagenda/126-biodanza
 -corso-avanzato-corso-a-numero-chiuso/2026-04-21-09-30
END:VEVENT
END:VCALENDAR
