BEGIN:VCALENDAR
VERSION:2.0
PRODID:-//Unitre San Mauro//NONSGML kigkonsult.se iCalcreator 2.30.10//
CALSCALE:GREGORIAN
METHOD:PUBLISH
UID:877fc633-e1c4-4671-9f18-3e9ce64e09a3
X-WR-CALNAME:iCagenda
X-WR-CALDESC:Event Management Extension for Joomla!
X-WR-RELCALID:3E26604A-50F4-4449-8B3E-E4F4932D05B5
X-WR-TIMEZONE:UTC
BEGIN:VTIMEZONE
TZID:UTC
END:VTIMEZONE
BEGIN:VEVENT
UID:11dc087f-5bb2-47e8-a40f-958da73f58cf
DTSTAMP:20260425T003603Z
CATEGORIES:Laboratori
CLASS:PUBLIC
DESCRIPTION:
DTSTART:20240119T093000Z
DTEND:20240119T093000Z
GEO:00;0
LOCATION:
ORGANIZER:
SEQUENCE:1
SUMMARY:Yoga
TRANSP:OPAQUE
URL:https://www.unitresanmauro.it/index.php/component/icagenda/127-yoga/202
 4-01-19-09-30
END:VEVENT
END:VCALENDAR
