BEGIN:VCALENDAR
VERSION:2.0
PRODID:-//Unitre San Mauro//NONSGML kigkonsult.se iCalcreator 2.30.10//
CALSCALE:GREGORIAN
METHOD:PUBLISH
UID:1e841624-d0ae-4d61-882a-51a68086adbf
X-WR-CALNAME:iCagenda
X-WR-CALDESC:Event Management Extension for Joomla!
X-WR-RELCALID:3E26604A-50F4-4449-8B3E-E4F4932D05B5
X-WR-TIMEZONE:UTC
BEGIN:VTIMEZONE
TZID:UTC
END:VTIMEZONE
BEGIN:VEVENT
UID:ee3f0940-7912-4b3e-965c-9bd43503364f
DTSTAMP:20260424T224815Z
CATEGORIES:Laboratori
CLASS:PUBLIC
DESCRIPTION:
DTSTART:20240209T093000Z
DTEND:20240209T093000Z
GEO:00;0
LOCATION:
ORGANIZER:
SEQUENCE:1
SUMMARY:Yoga
TRANSP:OPAQUE
URL:https://www.unitresanmauro.it/index.php/component/icagenda/127-yoga/202
 4-02-09-09-30
END:VEVENT
END:VCALENDAR
