BEGIN:VCALENDAR
VERSION:2.0
PRODID:-//Unitre San Mauro//NONSGML kigkonsult.se iCalcreator 2.30.10//
CALSCALE:GREGORIAN
METHOD:PUBLISH
UID:df23498a-abb9-4574-b95d-fb773d5c5a7b
X-WR-CALNAME:iCagenda
X-WR-CALDESC:Event Management Extension for Joomla!
X-WR-RELCALID:3E26604A-50F4-4449-8B3E-E4F4932D05B5
X-WR-TIMEZONE:UTC
BEGIN:VTIMEZONE
TZID:UTC
END:VTIMEZONE
BEGIN:VEVENT
UID:5110d30f-66df-47d4-aa55-5aad2278ddbe
DTSTAMP:20260424T210442Z
CATEGORIES:Laboratori
CLASS:PUBLIC
DESCRIPTION:
DTSTART:20240315T093000Z
DTEND:20240315T093000Z
GEO:00;0
LOCATION:
ORGANIZER:
SEQUENCE:1
SUMMARY:Yoga
TRANSP:OPAQUE
URL:https://www.unitresanmauro.it/index.php/component/icagenda/127-yoga/202
 4-03-15-09-30
END:VEVENT
END:VCALENDAR
