BEGIN:VCALENDAR
VERSION:2.0
PRODID:-//Unitre San Mauro//NONSGML kigkonsult.se iCalcreator 2.30.10//
CALSCALE:GREGORIAN
METHOD:PUBLISH
UID:2e72efd0-b08a-4821-84c0-a8e828092779
X-WR-CALNAME:iCagenda
X-WR-CALDESC:Event Management Extension for Joomla!
X-WR-RELCALID:3E26604A-50F4-4449-8B3E-E4F4932D05B5
X-WR-TIMEZONE:UTC
BEGIN:VTIMEZONE
TZID:UTC
END:VTIMEZONE
BEGIN:VEVENT
UID:4ff0d7df-3cee-43f4-a287-bd838aaa229d
DTSTAMP:20260424T210443Z
CATEGORIES:Laboratori
CLASS:PUBLIC
DESCRIPTION:
DTSTART:20240322T093000Z
DTEND:20240322T093000Z
GEO:00;0
LOCATION:
ORGANIZER:
SEQUENCE:1
SUMMARY:Yoga
TRANSP:OPAQUE
URL:https://www.unitresanmauro.it/index.php/component/icagenda/127-yoga/202
 4-03-22-09-30
END:VEVENT
END:VCALENDAR
