BEGIN:VCALENDAR
VERSION:2.0
PRODID:-//Unitre San Mauro//NONSGML kigkonsult.se iCalcreator 2.30.10//
CALSCALE:GREGORIAN
METHOD:PUBLISH
UID:e4ae511c-bce7-47eb-b4ff-2832f3c46cb8
X-WR-CALNAME:iCagenda
X-WR-CALDESC:Event Management Extension for Joomla!
X-WR-RELCALID:3E26604A-50F4-4449-8B3E-E4F4932D05B5
X-WR-TIMEZONE:UTC
BEGIN:VTIMEZONE
TZID:UTC
END:VTIMEZONE
BEGIN:VEVENT
UID:5692ee38-8d20-4501-bc0a-25d54f2b95fe
DTSTAMP:20260425T043100Z
CATEGORIES:Laboratori
CLASS:PUBLIC
DESCRIPTION:
DTSTART:20240329T093000Z
DTEND:20240329T093000Z
GEO:00;0
LOCATION:
ORGANIZER:
SEQUENCE:1
SUMMARY:Yoga
TRANSP:OPAQUE
URL:https://www.unitresanmauro.it/index.php/component/icagenda/127-yoga
END:VEVENT
END:VCALENDAR
