BEGIN:VCALENDAR
VERSION:2.0
PRODID:-//Unitre San Mauro//NONSGML kigkonsult.se iCalcreator 2.30.10//
CALSCALE:GREGORIAN
METHOD:PUBLISH
UID:052fff5a-9a62-499e-85ab-765810c0a233
X-WR-CALNAME:iCagenda
X-WR-CALDESC:Event Management Extension for Joomla!
X-WR-RELCALID:3E26604A-50F4-4449-8B3E-E4F4932D05B5
X-WR-TIMEZONE:UTC
BEGIN:VTIMEZONE
TZID:UTC
END:VTIMEZONE
BEGIN:VEVENT
UID:e69016d1-1417-4626-a0fc-15add9a4ae06
DTSTAMP:20260424T224815Z
CATEGORIES:Laboratori
CLASS:PUBLIC
DESCRIPTION:
DTSTART:20240228T160000Z
DTEND:20240228T160000Z
GEO:00;0
LOCATION:
ORGANIZER:
SEQUENCE:1
SUMMARY:il colore dell'argilla
TRANSP:OPAQUE
URL:https://www.unitresanmauro.it/index.php/component/icagenda/128-il-color
 e-dellargilla/2024-02-28-16-00
END:VEVENT
END:VCALENDAR
