BEGIN:VCALENDAR
VERSION:2.0
PRODID:-//Unitre San Mauro//NONSGML kigkonsult.se iCalcreator 2.30.10//
CALSCALE:GREGORIAN
METHOD:PUBLISH
UID:0ffc3b8c-7d61-4b92-9732-76a54bbf3ccb
X-WR-CALNAME:iCagenda
X-WR-CALDESC:Event Management Extension for Joomla!
X-WR-RELCALID:3E26604A-50F4-4449-8B3E-E4F4932D05B5
X-WR-TIMEZONE:UTC
BEGIN:VTIMEZONE
TZID:UTC
END:VTIMEZONE
BEGIN:VEVENT
UID:d32accfb-2b1d-4334-9b72-7ee808983e0f
DTSTAMP:20260424T210455Z
CATEGORIES:Laboratori
CLASS:PUBLIC
DESCRIPTION:
DTSTART:20240313T160000Z
DTEND:20240313T160000Z
GEO:00;0
LOCATION:
ORGANIZER:
SEQUENCE:1
SUMMARY:il colore dell'argilla
TRANSP:OPAQUE
URL:https://www.unitresanmauro.it/index.php/component/icagenda/128-il-color
 e-dellargilla/2024-03-13-16-00
END:VEVENT
END:VCALENDAR
