BEGIN:VCALENDAR
VERSION:2.0
PRODID:-//Unitre San Mauro//NONSGML kigkonsult.se iCalcreator 2.30.10//
CALSCALE:GREGORIAN
METHOD:PUBLISH
UID:0ff622b7-4a73-45e8-8e65-b1e3ddd603ef
X-WR-CALNAME:iCagenda
X-WR-CALDESC:Event Management Extension for Joomla!
X-WR-RELCALID:3E26604A-50F4-4449-8B3E-E4F4932D05B5
X-WR-TIMEZONE:UTC
BEGIN:VTIMEZONE
TZID:UTC
END:VTIMEZONE
BEGIN:VEVENT
UID:ff8cf591-4e07-4d85-a015-f0e34d838a3e
DTSTAMP:20260424T210456Z
CATEGORIES:Laboratori
CLASS:PUBLIC
DESCRIPTION:
DTSTART:20240327T160000Z
DTEND:20240327T160000Z
GEO:00;0
LOCATION:
ORGANIZER:
SEQUENCE:1
SUMMARY:il colore dell'argilla
TRANSP:OPAQUE
URL:https://www.unitresanmauro.it/index.php/component/icagenda/128-il-color
 e-dellargilla/2024-03-27-16-00
END:VEVENT
END:VCALENDAR
