BEGIN:VCALENDAR
VERSION:2.0
PRODID:-//Unitre San Mauro//NONSGML kigkonsult.se iCalcreator 2.30.10//
CALSCALE:GREGORIAN
METHOD:PUBLISH
UID:c086f002-c2a7-463a-a9b0-914a200a2785
X-WR-CALNAME:iCagenda
X-WR-CALDESC:Event Management Extension for Joomla!
X-WR-RELCALID:3E26604A-50F4-4449-8B3E-E4F4932D05B5
X-WR-TIMEZONE:UTC
BEGIN:VTIMEZONE
TZID:UTC
END:VTIMEZONE
BEGIN:VEVENT
UID:739b97fb-877b-496b-96e8-e37e62b91bd3
DTSTAMP:20260424T224523Z
CATEGORIES:Laboratori
CLASS:PUBLIC
DESCRIPTION:
DTSTART:20240424T160000Z
DTEND:20240424T160000Z
GEO:00;0
LOCATION:
ORGANIZER:
SEQUENCE:1
SUMMARY:il colore dell'argilla
TRANSP:OPAQUE
URL:https://www.unitresanmauro.it/index.php/component/icagenda/128-il-color
 e-dellargilla
END:VEVENT
END:VCALENDAR
