BEGIN:VCALENDAR
VERSION:2.0
PRODID:-//Unitre San Mauro//NONSGML kigkonsult.se iCalcreator 2.30.10//
CALSCALE:GREGORIAN
METHOD:PUBLISH
UID:6c9a6f96-17dd-46d0-8972-bcc02f724c43
X-WR-CALNAME:iCagenda
X-WR-CALDESC:Event Management Extension for Joomla!
X-WR-RELCALID:3E26604A-50F4-4449-8B3E-E4F4932D05B5
X-WR-TIMEZONE:UTC
BEGIN:VTIMEZONE
TZID:UTC
END:VTIMEZONE
BEGIN:VEVENT
UID:69f37122-08b7-49ef-98ce-8ce65175df1c
DTSTAMP:20260425T042133Z
CATEGORIES:Laboratori
CLASS:PUBLIC
DESCRIPTION:
DTSTART:20251113T160000Z
DTEND:20251113T160000Z
GEO:00;0
LOCATION:
ORGANIZER:
SEQUENCE:1
SUMMARY:Giochiamo con la prosa e la poesia: scrittura creativa  (corso a nu
 mero chiuso)
TRANSP:OPAQUE
URL:https://www.unitresanmauro.it/index.php/component/icagenda/129-le-eta-d
 ella-vita-laboratori-di-scrittura-autobiografica-corso-a-numero-chiuso/202
 5-11-13-16-00
END:VEVENT
END:VCALENDAR
