BEGIN:VCALENDAR
VERSION:2.0
PRODID:-//Unitre San Mauro//NONSGML kigkonsult.se iCalcreator 2.30.10//
CALSCALE:GREGORIAN
METHOD:PUBLISH
UID:a14249a5-09c9-4fce-98f6-0edc35376fef
X-WR-CALNAME:iCagenda
X-WR-CALDESC:Event Management Extension for Joomla!
X-WR-RELCALID:3E26604A-50F4-4449-8B3E-E4F4932D05B5
X-WR-TIMEZONE:UTC
BEGIN:VTIMEZONE
TZID:UTC
END:VTIMEZONE
BEGIN:VEVENT
UID:e200975f-de05-4326-8b2f-0067c471ee2a
DTSTAMP:20260425T042133Z
CATEGORIES:Laboratori
CLASS:PUBLIC
DESCRIPTION:
DTSTART:20251127T160000Z
DTEND:20251127T160000Z
GEO:00;0
LOCATION:
ORGANIZER:
SEQUENCE:1
SUMMARY:Giochiamo con la prosa e la poesia: scrittura creativa  (corso a nu
 mero chiuso)
TRANSP:OPAQUE
URL:https://www.unitresanmauro.it/index.php/component/icagenda/129-le-eta-d
 ella-vita-laboratori-di-scrittura-autobiografica-corso-a-numero-chiuso/202
 5-11-27-16-00
END:VEVENT
END:VCALENDAR
