BEGIN:VCALENDAR
VERSION:2.0
PRODID:-//Unitre San Mauro//NONSGML kigkonsult.se iCalcreator 2.30.10//
CALSCALE:GREGORIAN
METHOD:PUBLISH
UID:0fd6d7c1-99ce-43a8-9f3d-907c6fcd65bf
X-WR-CALNAME:iCagenda
X-WR-CALDESC:Event Management Extension for Joomla!
X-WR-RELCALID:3E26604A-50F4-4449-8B3E-E4F4932D05B5
X-WR-TIMEZONE:UTC
BEGIN:VTIMEZONE
TZID:UTC
END:VTIMEZONE
BEGIN:VEVENT
UID:6e9687ea-bd38-4efc-a0ff-8611a3ee72c5
DTSTAMP:20260425T003904Z
CATEGORIES:Laboratori
CLASS:PUBLIC
DESCRIPTION:
DTSTART:20260108T160000Z
DTEND:20260108T160000Z
GEO:00;0
LOCATION:
ORGANIZER:
SEQUENCE:1
SUMMARY:Giochiamo con la prosa e la poesia: scrittura creativa  (corso a nu
 mero chiuso)
TRANSP:OPAQUE
URL:https://www.unitresanmauro.it/index.php/component/icagenda/129-le-eta-d
 ella-vita-laboratori-di-scrittura-autobiografica-corso-a-numero-chiuso/202
 6-01-08-16-00
END:VEVENT
END:VCALENDAR
