BEGIN:VCALENDAR
VERSION:2.0
PRODID:-//Unitre San Mauro//NONSGML kigkonsult.se iCalcreator 2.30.10//
CALSCALE:GREGORIAN
METHOD:PUBLISH
UID:132a3347-0033-46e5-89bf-7252ee1af72c
X-WR-CALNAME:iCagenda
X-WR-CALDESC:Event Management Extension for Joomla!
X-WR-RELCALID:3E26604A-50F4-4449-8B3E-E4F4932D05B5
X-WR-TIMEZONE:UTC
BEGIN:VTIMEZONE
TZID:UTC
END:VTIMEZONE
BEGIN:VEVENT
UID:7ca787ed-173f-4718-8f5b-9c984719e875
DTSTAMP:20260424T175732Z
CATEGORIES:Laboratori
CLASS:PUBLIC
DESCRIPTION:
DTSTART:20260305T160000Z
DTEND:20260305T160000Z
GEO:00;0
LOCATION:
ORGANIZER:
SEQUENCE:1
SUMMARY:Giochiamo con la prosa e la poesia: scrittura creativa  (corso a nu
 mero chiuso)
TRANSP:OPAQUE
URL:https://www.unitresanmauro.it/index.php/component/icagenda/129-le-eta-d
 ella-vita-laboratori-di-scrittura-autobiografica-corso-a-numero-chiuso/202
 6-03-05-16-00
END:VEVENT
END:VCALENDAR
