BEGIN:VCALENDAR
VERSION:2.0
PRODID:-//Unitre San Mauro//NONSGML kigkonsult.se iCalcreator 2.30.10//
CALSCALE:GREGORIAN
METHOD:PUBLISH
UID:d2e76a36-d681-4af4-b01b-ea49335c9827
X-WR-CALNAME:iCagenda
X-WR-CALDESC:Event Management Extension for Joomla!
X-WR-RELCALID:3E26604A-50F4-4449-8B3E-E4F4932D05B5
X-WR-TIMEZONE:UTC
BEGIN:VTIMEZONE
TZID:UTC
END:VTIMEZONE
BEGIN:VEVENT
UID:3a3ce9b4-cd20-443d-bafc-c8d262a3582a
DTSTAMP:20260425T003540Z
CATEGORIES:Laboratori
CLASS:PUBLIC
DESCRIPTION:
DTSTART:20260130T160000Z
DTEND:20260130T160000Z
GEO:00;0
LOCATION:
ORGANIZER:
SEQUENCE:1
SUMMARY:ricamo
TRANSP:OPAQUE
URL:https://www.unitresanmauro.it/index.php/component/icagenda/130-ricamo/2
 026-01-30-16-00
END:VEVENT
END:VCALENDAR
