BEGIN:VCALENDAR
VERSION:2.0
PRODID:-//Unitre San Mauro//NONSGML kigkonsult.se iCalcreator 2.30.10//
CALSCALE:GREGORIAN
METHOD:PUBLISH
UID:0ee688e3-d325-47f8-96dc-da5c7c774fc6
X-WR-CALNAME:iCagenda
X-WR-CALDESC:Event Management Extension for Joomla!
X-WR-RELCALID:3E26604A-50F4-4449-8B3E-E4F4932D05B5
X-WR-TIMEZONE:UTC
BEGIN:VTIMEZONE
TZID:UTC
END:VTIMEZONE
BEGIN:VEVENT
UID:c2f652b4-5a4f-495e-b786-521b4dc239b2
DTSTAMP:20260425T154756Z
CATEGORIES:Laboratori
CLASS:PUBLIC
DESCRIPTION:
DTSTART:20260424T160000Z
DTEND:20260424T160000Z
GEO:00;0
LOCATION:
ORGANIZER:
SEQUENCE:1
SUMMARY:ricamo
TRANSP:OPAQUE
URL:https://www.unitresanmauro.it/index.php/component/icagenda/130-ricamo/2
 026-04-24-16-00
END:VEVENT
END:VCALENDAR
