BEGIN:VCALENDAR
VERSION:2.0
PRODID:-//Unitre San Mauro//NONSGML kigkonsult.se iCalcreator 2.30.10//
CALSCALE:GREGORIAN
METHOD:PUBLISH
UID:b46ab728-881a-43a5-b23f-27e36b051aec
X-WR-CALNAME:iCagenda
X-WR-CALDESC:Event Management Extension for Joomla!
X-WR-RELCALID:3E26604A-50F4-4449-8B3E-E4F4932D05B5
X-WR-TIMEZONE:UTC
BEGIN:VTIMEZONE
TZID:UTC
END:VTIMEZONE
BEGIN:VEVENT
UID:a95d3698-989e-4839-9e92-eddc433126cb
DTSTAMP:20260425T043055Z
CATEGORIES:Attività e movimento
CLASS:PUBLIC
DESCRIPTION:
DTSTART:20241209T163000Z
DTEND:20241209T163000Z
GEO:00;0
LOCATION:
ORGANIZER:
SEQUENCE:1
SUMMARY:Allenamento Funzionale contro la perdita della massa muscolare - 1°
  corso ( a numero chiuso)    PRESSO SCUOLA ALLENDE
TRANSP:OPAQUE
URL:https://www.unitresanmauro.it/index.php/component/icagenda/131-allename
 nto-funzionale-contro-la-perdita-della-massa-muscolare-1-corso-a-numero-ch
 iuso
END:VEVENT
END:VCALENDAR
