BEGIN:VCALENDAR
VERSION:2.0
PRODID:-//Unitre San Mauro//NONSGML kigkonsult.se iCalcreator 2.30.10//
CALSCALE:GREGORIAN
METHOD:PUBLISH
UID:0d1c8e06-6899-47f0-8b52-97b78751eb49
X-WR-CALNAME:iCagenda
X-WR-CALDESC:Event Management Extension for Joomla!
X-WR-RELCALID:3E26604A-50F4-4449-8B3E-E4F4932D05B5
X-WR-TIMEZONE:UTC
BEGIN:VTIMEZONE
TZID:UTC
END:VTIMEZONE
BEGIN:VEVENT
UID:38b4e269-3e86-4ed5-b21b-27b6bfd49fcc
DTSTAMP:20260425T003800Z
CATEGORIES:Attività e movimento
CLASS:PUBLIC
DESCRIPTION:
DTSTART:20260108T170000Z
DTEND:20260108T180000Z
GEO:00;0
LOCATION:
ORGANIZER:
SEQUENCE:1
SUMMARY:Allenamento funzionale ( corso a numero chiuso) - c/o Piscina Grams
 ci\, via del porto 13\, San Mauro - Palestra Piccola
TRANSP:OPAQUE
URL:https://www.unitresanmauro.it/index.php/component/icagenda/132-allename
 nto-funzionale-contro-la-perdita-di-massa-muscolare-2-corso-a-numero-chius
 o/2026-01-08-17-00
END:VEVENT
END:VCALENDAR
