BEGIN:VCALENDAR
VERSION:2.0
PRODID:-//Unitre San Mauro//NONSGML kigkonsult.se iCalcreator 2.30.10//
CALSCALE:GREGORIAN
METHOD:PUBLISH
UID:ffd9f71b-0da6-4506-b75e-4f94cf15284d
X-WR-CALNAME:iCagenda
X-WR-CALDESC:Event Management Extension for Joomla!
X-WR-RELCALID:3E26604A-50F4-4449-8B3E-E4F4932D05B5
X-WR-TIMEZONE:UTC
BEGIN:VTIMEZONE
TZID:UTC
END:VTIMEZONE
BEGIN:VEVENT
UID:8d9f7207-9ed6-45de-9b7d-3f46b15e6c26
DTSTAMP:20260425T003801Z
CATEGORIES:Attività e movimento
CLASS:PUBLIC
DESCRIPTION:
DTSTART:20260115T163000Z
DTEND:20260115T163000Z
GEO:00;0
LOCATION:
ORGANIZER:
SEQUENCE:1
SUMMARY:Allenamento funzionale ( corso a numero chiuso) - c/o Piscina Grams
 ci\, via del porto 13\, San Mauro - Palestra Piccola
TRANSP:OPAQUE
URL:https://www.unitresanmauro.it/index.php/component/icagenda/132-allename
 nto-funzionale-contro-la-perdita-di-massa-muscolare-2-corso-a-numero-chius
 o/2026-01-15-16-30
END:VEVENT
END:VCALENDAR
