BEGIN:VCALENDAR
VERSION:2.0
PRODID:-//Unitre San Mauro//NONSGML kigkonsult.se iCalcreator 2.30.10//
CALSCALE:GREGORIAN
METHOD:PUBLISH
UID:085e34aa-89a9-473b-ae7f-465c3151aefd
X-WR-CALNAME:iCagenda
X-WR-CALDESC:Event Management Extension for Joomla!
X-WR-RELCALID:3E26604A-50F4-4449-8B3E-E4F4932D05B5
X-WR-TIMEZONE:UTC
BEGIN:VTIMEZONE
TZID:UTC
END:VTIMEZONE
BEGIN:VEVENT
UID:afb6ea13-8f59-4146-8bf8-5bbcafcaf2eb
DTSTAMP:20260425T041159Z
CATEGORIES:Attività e movimento
CLASS:PUBLIC
DESCRIPTION:
DTSTART:20251110T153000Z
DTEND:20251110T153000Z
GEO:00;0
LOCATION:
ORGANIZER:
SEQUENCE:1
SUMMARY:Yoga : il respiro - l'energia sottile ( corso a numero chiuso) - c/
 o Piscina Gramsci\, via del porto 13\, San Mauro - Palestra Grande
TRANSP:OPAQUE
URL:https://www.unitresanmauro.it/index.php/component/icagenda/134-yoga-e-s
 alute-corso-a-numero-chiuso/2025-11-10-15-30
END:VEVENT
END:VCALENDAR
