BEGIN:VCALENDAR
VERSION:2.0
PRODID:-//Unitre San Mauro//NONSGML kigkonsult.se iCalcreator 2.30.10//
CALSCALE:GREGORIAN
METHOD:PUBLISH
UID:3d21e328-f616-477c-8637-393cbdd7ddbe
X-WR-CALNAME:iCagenda
X-WR-CALDESC:Event Management Extension for Joomla!
X-WR-RELCALID:3E26604A-50F4-4449-8B3E-E4F4932D05B5
X-WR-TIMEZONE:UTC
BEGIN:VTIMEZONE
TZID:UTC
END:VTIMEZONE
BEGIN:VEVENT
UID:8ec3b916-29bc-47fb-b9e1-f1d9f5fdf7bc
DTSTAMP:20260425T003803Z
CATEGORIES:Attività e movimento
CLASS:PUBLIC
DESCRIPTION:
DTSTART:20241205T150000Z
DTEND:20241205T150000Z
GEO:00;0
LOCATION:
ORGANIZER:
SEQUENCE:1
SUMMARY:Yoga: il respiro - l'energia sottile (corso a numero chiuso) Palest
 ra c/o Piscina Gramsci v.del Porto 13
TRANSP:OPAQUE
URL:https://www.unitresanmauro.it/index.php/component/icagenda/135-yoga-il-
 respiro-lenergia-sottile-corso-a-numero-chiuso/2024-12-05-15-00
END:VEVENT
END:VCALENDAR
