BEGIN:VCALENDAR
VERSION:2.0
PRODID:-//Unitre San Mauro//NONSGML kigkonsult.se iCalcreator 2.30.10//
CALSCALE:GREGORIAN
METHOD:PUBLISH
UID:a4ba4791-1c4c-4b44-a93f-f2fa9cef6f80
X-WR-CALNAME:iCagenda
X-WR-CALDESC:Event Management Extension for Joomla!
X-WR-RELCALID:3E26604A-50F4-4449-8B3E-E4F4932D05B5
X-WR-TIMEZONE:UTC
BEGIN:VTIMEZONE
TZID:UTC
END:VTIMEZONE
BEGIN:VEVENT
UID:5e702c0e-474b-40b4-9cce-6bc34bd27606
DTSTAMP:20260425T003803Z
CATEGORIES:Attività e movimento
CLASS:PUBLIC
DESCRIPTION:
DTSTART:20241212T150000Z
DTEND:20241212T150000Z
GEO:00;0
LOCATION:
ORGANIZER:
SEQUENCE:1
SUMMARY:Yoga: il respiro - l'energia sottile (corso a numero chiuso) Palest
 ra c/o Piscina Gramsci v.del Porto 13
TRANSP:OPAQUE
URL:https://www.unitresanmauro.it/index.php/component/icagenda/135-yoga-il-
 respiro-lenergia-sottile-corso-a-numero-chiuso/2024-12-12-15-00
END:VEVENT
END:VCALENDAR
