BEGIN:VCALENDAR
VERSION:2.0
PRODID:-//Unitre San Mauro//NONSGML kigkonsult.se iCalcreator 2.30.10//
CALSCALE:GREGORIAN
METHOD:PUBLISH
UID:c079d9af-3cce-47a0-9e3b-229af6a60512
X-WR-CALNAME:iCagenda
X-WR-CALDESC:Event Management Extension for Joomla!
X-WR-RELCALID:3E26604A-50F4-4449-8B3E-E4F4932D05B5
X-WR-TIMEZONE:UTC
BEGIN:VTIMEZONE
TZID:UTC
END:VTIMEZONE
BEGIN:VEVENT
UID:303a4a10-6e85-411e-93d6-119b97dce1db
DTSTAMP:20260424T210700Z
CATEGORIES:Attività e movimento
CLASS:PUBLIC
DESCRIPTION:
DTSTART:20250213T150000Z
DTEND:20250213T150000Z
GEO:00;0
LOCATION:
ORGANIZER:
SEQUENCE:1
SUMMARY:Yoga: il respiro - l'energia sottile (corso a numero chiuso) Palest
 ra c/o Piscina Gramsci v.del Porto 13
TRANSP:OPAQUE
URL:https://www.unitresanmauro.it/index.php/component/icagenda/135-yoga-il-
 respiro-lenergia-sottile-corso-a-numero-chiuso/2025-02-13-15-00
END:VEVENT
END:VCALENDAR
