BEGIN:VCALENDAR
VERSION:2.0
PRODID:-//Unitre San Mauro//NONSGML kigkonsult.se iCalcreator 2.30.10//
CALSCALE:GREGORIAN
METHOD:PUBLISH
UID:a3365088-b0e5-4c4f-96de-da84de1d8d52
X-WR-CALNAME:iCagenda
X-WR-CALDESC:Event Management Extension for Joomla!
X-WR-RELCALID:3E26604A-50F4-4449-8B3E-E4F4932D05B5
X-WR-TIMEZONE:UTC
BEGIN:VTIMEZONE
TZID:UTC
END:VTIMEZONE
BEGIN:VEVENT
UID:b04d6f78-ce59-41b4-8293-da96e6a46187
DTSTAMP:20260424T194504Z
CATEGORIES:Attività e movimento
CLASS:PUBLIC
DESCRIPTION:
DTSTART:20250327T150000Z
DTEND:20250327T150000Z
GEO:00;0
LOCATION:
ORGANIZER:
SEQUENCE:1
SUMMARY:Yoga: il respiro - l'energia sottile (corso a numero chiuso) Palest
 ra c/o Piscina Gramsci v.del Porto 13
TRANSP:OPAQUE
URL:https://www.unitresanmauro.it/index.php/component/icagenda/135-yoga-il-
 respiro-lenergia-sottile-corso-a-numero-chiuso/2025-03-27-15-00
END:VEVENT
END:VCALENDAR
