BEGIN:VCALENDAR
VERSION:2.0
PRODID:-//Unitre San Mauro//NONSGML kigkonsult.se iCalcreator 2.30.10//
CALSCALE:GREGORIAN
METHOD:PUBLISH
UID:5858f43a-31a8-402a-aa3b-1a52c5d8d23b
X-WR-CALNAME:iCagenda
X-WR-CALDESC:Event Management Extension for Joomla!
X-WR-RELCALID:3E26604A-50F4-4449-8B3E-E4F4932D05B5
X-WR-TIMEZONE:UTC
BEGIN:VTIMEZONE
TZID:UTC
END:VTIMEZONE
BEGIN:VEVENT
UID:d5a0463f-fbe7-4f9c-8460-6d03932536dd
DTSTAMP:20260424T210632Z
CATEGORIES:Gite
CLASS:PUBLIC
DESCRIPTION:
DTSTART:20240314T164100Z
DTEND:20240314T164100Z
GEO:00;0
LOCATION:
ORGANIZER:
SEQUENCE:1
SUMMARY:GITA di UNA GIORNATA (unitre chiusa)
TRANSP:OPAQUE
URL:https://www.unitresanmauro.it/index.php/component/icagenda/136-gita-di-
 una-giornata-unitre-chiusa/2024-03-14-16-41
END:VEVENT
END:VCALENDAR
