BEGIN:VCALENDAR
VERSION:2.0
PRODID:-//Unitre San Mauro//NONSGML kigkonsult.se iCalcreator 2.30.10//
CALSCALE:GREGORIAN
METHOD:PUBLISH
UID:ffbbecd9-25ee-409a-a2e2-11983856fcfb
X-WR-CALNAME:iCagenda
X-WR-CALDESC:Event Management Extension for Joomla!
X-WR-RELCALID:3E26604A-50F4-4449-8B3E-E4F4932D05B5
X-WR-TIMEZONE:UTC
BEGIN:VTIMEZONE
TZID:UTC
END:VTIMEZONE
BEGIN:VEVENT
UID:4ecb0c2d-7c04-4afe-a40a-afacb34d1496
DTSTAMP:20260424T194448Z
CATEGORIES:Gite
CLASS:PUBLIC
DESCRIPTION:
DTSTART:20240410T070000Z
DTEND:20240410T070000Z
GEO:00;0
LOCATION:
ORGANIZER:
SEQUENCE:1
SUMMARY:GITA di UNA GIORNATA (unitre chiusa)
TRANSP:OPAQUE
URL:https://www.unitresanmauro.it/index.php/component/icagenda/136-gita-di-
 una-giornata-unitre-chiusa/2024-04-10-07-00
END:VEVENT
END:VCALENDAR
