BEGIN:VCALENDAR
VERSION:2.0
PRODID:-//Unitre San Mauro//NONSGML kigkonsult.se iCalcreator 2.30.10//
CALSCALE:GREGORIAN
METHOD:PUBLISH
UID:cfaa29b4-9b88-48c1-b3e8-c3f9ce87866d
X-WR-CALNAME:iCagenda
X-WR-CALDESC:Event Management Extension for Joomla!
X-WR-RELCALID:3E26604A-50F4-4449-8B3E-E4F4932D05B5
X-WR-TIMEZONE:UTC
BEGIN:VTIMEZONE
TZID:UTC
END:VTIMEZONE
BEGIN:VEVENT
UID:5b4e73d4-1a1d-46bd-8c42-d85153f5795a
DTSTAMP:20260424T175240Z
CATEGORIES:Lingue straniere
CLASS:PUBLIC
DESCRIPTION:
DTSTART:20260303T093000Z
DTEND:20260303T093000Z
GEO:00;0
LOCATION:
ORGANIZER:
SEQUENCE:1
SUMMARY:Spagnolo 4° livello (corso a numero chiuso)
TRANSP:OPAQUE
URL:https://www.unitresanmauro.it/index.php/component/icagenda/138-spagnolo
 -4-livello/2026-03-03-09-30
END:VEVENT
END:VCALENDAR
