BEGIN:VCALENDAR
VERSION:2.0
PRODID:-//Unitre San Mauro//NONSGML kigkonsult.se iCalcreator 2.30.10//
CALSCALE:GREGORIAN
METHOD:PUBLISH
UID:ac57a53c-062d-49e5-adb3-2c028e38e098
X-WR-CALNAME:iCagenda
X-WR-CALDESC:Event Management Extension for Joomla!
X-WR-RELCALID:3E26604A-50F4-4449-8B3E-E4F4932D05B5
X-WR-TIMEZONE:UTC
BEGIN:VTIMEZONE
TZID:UTC
END:VTIMEZONE
BEGIN:VEVENT
UID:7cc3862c-bde4-4660-a9ab-ca4adb1b3a33
DTSTAMP:20260425T040819Z
CATEGORIES:Laboratori
CLASS:PUBLIC
DESCRIPTION:
DTSTART:20231117T180000Z
DTEND:20231117T180000Z
GEO:00;0
LOCATION:
ORGANIZER:
SEQUENCE:1
SUMMARY:tai chi chuan (2° corso) h.18.00/19.00
TRANSP:OPAQUE
URL:https://www.unitresanmauro.it/index.php/component/icagenda/139-tai-chi-
 chuan-2-corso/2023-11-17-18-00
END:VEVENT
END:VCALENDAR
