BEGIN:VCALENDAR
VERSION:2.0
PRODID:-//Unitre San Mauro//NONSGML kigkonsult.se iCalcreator 2.30.10//
CALSCALE:GREGORIAN
METHOD:PUBLISH
UID:1632839f-f0db-4261-b633-4c946818702d
X-WR-CALNAME:iCagenda
X-WR-CALDESC:Event Management Extension for Joomla!
X-WR-RELCALID:3E26604A-50F4-4449-8B3E-E4F4932D05B5
X-WR-TIMEZONE:UTC
BEGIN:VTIMEZONE
TZID:UTC
END:VTIMEZONE
BEGIN:VEVENT
UID:a981b4ac-eec6-44bc-81c1-78ba0ff96437
DTSTAMP:20260425T022904Z
CATEGORIES:Laboratori
CLASS:PUBLIC
DESCRIPTION:
DTSTART:20231215T180000Z
DTEND:20231215T180000Z
GEO:00;0
LOCATION:
ORGANIZER:
SEQUENCE:1
SUMMARY:tai chi chuan (2° corso) h.18.00/19.00
TRANSP:OPAQUE
URL:https://www.unitresanmauro.it/index.php/component/icagenda/139-tai-chi-
 chuan-2-corso/2023-12-15-18-00
END:VEVENT
END:VCALENDAR
