BEGIN:VCALENDAR
VERSION:2.0
PRODID:-//Unitre San Mauro//NONSGML kigkonsult.se iCalcreator 2.30.10//
CALSCALE:GREGORIAN
METHOD:PUBLISH
UID:f24e0c51-ccd6-4469-94cf-a1ed55fc3f53
X-WR-CALNAME:iCagenda
X-WR-CALDESC:Event Management Extension for Joomla!
X-WR-RELCALID:3E26604A-50F4-4449-8B3E-E4F4932D05B5
X-WR-TIMEZONE:UTC
BEGIN:VTIMEZONE
TZID:UTC
END:VTIMEZONE
BEGIN:VEVENT
UID:68c0436b-ddb5-4409-9891-5461ad4d7c9c
DTSTAMP:20260425T003643Z
CATEGORIES:Laboratori
CLASS:PUBLIC
DESCRIPTION:
DTSTART:20240112T180000Z
DTEND:20240112T180000Z
GEO:00;0
LOCATION:
ORGANIZER:
SEQUENCE:1
SUMMARY:tai chi chuan (2° corso) h.18.00/19.00
TRANSP:OPAQUE
URL:https://www.unitresanmauro.it/index.php/component/icagenda/139-tai-chi-
 chuan-2-corso/2024-01-12-18-00
END:VEVENT
END:VCALENDAR
