BEGIN:VCALENDAR
VERSION:2.0
PRODID:-//Unitre San Mauro//NONSGML kigkonsult.se iCalcreator 2.30.10//
CALSCALE:GREGORIAN
METHOD:PUBLISH
UID:f7d1a488-2dd6-4799-a1c4-0a4e06dee6c4
X-WR-CALNAME:iCagenda
X-WR-CALDESC:Event Management Extension for Joomla!
X-WR-RELCALID:3E26604A-50F4-4449-8B3E-E4F4932D05B5
X-WR-TIMEZONE:UTC
BEGIN:VTIMEZONE
TZID:UTC
END:VTIMEZONE
BEGIN:VEVENT
UID:c7cb10c7-6ec3-48bb-a2b3-3dae57704403
DTSTAMP:20260425T003606Z
CATEGORIES:Laboratori
CLASS:PUBLIC
DESCRIPTION:
DTSTART:20240119T180000Z
DTEND:20240119T180000Z
GEO:00;0
LOCATION:
ORGANIZER:
SEQUENCE:1
SUMMARY:tai chi chuan (2° corso) h.18.00/19.00
TRANSP:OPAQUE
URL:https://www.unitresanmauro.it/index.php/component/icagenda/139-tai-chi-
 chuan-2-corso/2024-01-19-18-00
END:VEVENT
END:VCALENDAR
