BEGIN:VCALENDAR
VERSION:2.0
PRODID:-//Unitre San Mauro//NONSGML kigkonsult.se iCalcreator 2.30.10//
CALSCALE:GREGORIAN
METHOD:PUBLISH
UID:594d32d6-f1e2-4157-af53-cac6671d7a02
X-WR-CALNAME:iCagenda
X-WR-CALDESC:Event Management Extension for Joomla!
X-WR-RELCALID:3E26604A-50F4-4449-8B3E-E4F4932D05B5
X-WR-TIMEZONE:UTC
BEGIN:VTIMEZONE
TZID:UTC
END:VTIMEZONE
BEGIN:VEVENT
UID:6ebad205-22f6-4900-9e62-9588aed1dbd5
DTSTAMP:20260424T224821Z
CATEGORIES:Laboratori
CLASS:PUBLIC
DESCRIPTION:
DTSTART:20240202T180000Z
DTEND:20240202T180000Z
GEO:00;0
LOCATION:
ORGANIZER:
SEQUENCE:1
SUMMARY:tai chi chuan (2° corso) h.18.00/19.00
TRANSP:OPAQUE
URL:https://www.unitresanmauro.it/index.php/component/icagenda/139-tai-chi-
 chuan-2-corso/2024-02-02-18-00
END:VEVENT
END:VCALENDAR
