BEGIN:VCALENDAR
VERSION:2.0
PRODID:-//Unitre San Mauro//NONSGML kigkonsult.se iCalcreator 2.30.10//
CALSCALE:GREGORIAN
METHOD:PUBLISH
UID:f88b16e7-b463-4c5d-ae07-8350cec44d87
X-WR-CALNAME:iCagenda
X-WR-CALDESC:Event Management Extension for Joomla!
X-WR-RELCALID:3E26604A-50F4-4449-8B3E-E4F4932D05B5
X-WR-TIMEZONE:UTC
BEGIN:VTIMEZONE
TZID:UTC
END:VTIMEZONE
BEGIN:VEVENT
UID:24547f9c-8e30-4a3d-be2f-af2eceff16a5
DTSTAMP:20260425T042018Z
CATEGORIES:Lingue straniere
CLASS:PUBLIC
DESCRIPTION;ALTREP="CID:<FFFF__=0ABBE548DFE235B58f9e8a93d@coffeebean.com>":
 Orario lezione: 14.45 - 15.50
DTSTART:20251107T104500Z
DTEND:20251107T104500Z
GEO:00;0
LOCATION:
ORGANIZER:
SEQUENCE:1
SUMMARY:Spagnolo 1° Livello (corso a numero chiuso)
TRANSP:OPAQUE
URL:https://www.unitresanmauro.it/index.php/component/icagenda/14-spagnolo-
 1-livello/2025-11-07-10-45
END:VEVENT
END:VCALENDAR
