BEGIN:VCALENDAR
VERSION:2.0
PRODID:-//Unitre San Mauro//NONSGML kigkonsult.se iCalcreator 2.30.10//
CALSCALE:GREGORIAN
METHOD:PUBLISH
UID:b147a5ab-706d-4f88-9c68-eba6680f250e
X-WR-CALNAME:iCagenda
X-WR-CALDESC:Event Management Extension for Joomla!
X-WR-RELCALID:3E26604A-50F4-4449-8B3E-E4F4932D05B5
X-WR-TIMEZONE:UTC
BEGIN:VTIMEZONE
TZID:UTC
END:VTIMEZONE
BEGIN:VEVENT
UID:8add0e9e-0ec7-46b7-b2da-062be8d48088
DTSTAMP:20260425T041802Z
CATEGORIES:Corsi e incontri
CLASS:PUBLIC
DESCRIPTION:
DTSTART:20241007T160000Z
DTEND:20241007T180000Z
GEO:00;0
LOCATION:
ORGANIZER:
SEQUENCE:1
SUMMARY:Come sta cambiando San Mauro
TRANSP:OPAQUE
URL:https://www.unitresanmauro.it/index.php/component/icagenda/141-come-sta
 -cambiando-san-mauro
END:VEVENT
END:VCALENDAR
