BEGIN:VCALENDAR
VERSION:2.0
PRODID:-//Unitre San Mauro//NONSGML kigkonsult.se iCalcreator 2.30.10//
CALSCALE:GREGORIAN
METHOD:PUBLISH
UID:cfb23444-64d9-49d4-968c-dbc65d7eea32
X-WR-CALNAME:iCagenda
X-WR-CALDESC:Event Management Extension for Joomla!
X-WR-RELCALID:3E26604A-50F4-4449-8B3E-E4F4932D05B5
X-WR-TIMEZONE:UTC
BEGIN:VTIMEZONE
TZID:UTC
END:VTIMEZONE
BEGIN:VEVENT
UID:b67ffd54-1d06-4501-ab1f-6a3aa2f15f7d
DTSTAMP:20260425T003904Z
CATEGORIES:Attività e movimento
CLASS:PUBLIC
DESCRIPTION:
DTSTART:20260113T153000Z
DTEND:20260113T153000Z
GEO:00;0
LOCATION:
ORGANIZER:
SEQUENCE:1
SUMMARY:Brain longevity (r) Yoga e salute  ( corso a numero chiuso) - c/o P
 iscina Gramsci\, via del porto 13\, San Mauro - Palestra Grande
TRANSP:OPAQUE
URL:https://www.unitresanmauro.it/index.php/component/icagenda/142-brain-lo
 ngevity-r-yoga-e-salute-corso-a-numero-chiuso-palestra-c-o-piscina-gramsci
 -v-del-porto-13/2026-01-13-15-30
END:VEVENT
END:VCALENDAR
