BEGIN:VCALENDAR
VERSION:2.0
PRODID:-//Unitre San Mauro//NONSGML kigkonsult.se iCalcreator 2.30.10//
CALSCALE:GREGORIAN
METHOD:PUBLISH
UID:f7334a35-aba4-41f2-a8e1-946cf7b10314
X-WR-CALNAME:iCagenda
X-WR-CALDESC:Event Management Extension for Joomla!
X-WR-RELCALID:3E26604A-50F4-4449-8B3E-E4F4932D05B5
X-WR-TIMEZONE:UTC
BEGIN:VTIMEZONE
TZID:UTC
END:VTIMEZONE
BEGIN:VEVENT
UID:ab621e79-c443-4785-b00c-193a5385420f
DTSTAMP:20260425T022908Z
CATEGORIES:Corsi e incontri
CLASS:PUBLIC
DESCRIPTION:
DTSTART:20241107T160000Z
DTEND:20241107T160000Z
GEO:00;0
LOCATION:
ORGANIZER:
SEQUENCE:1
SUMMARY:Egittologia
TRANSP:OPAQUE
URL:https://www.unitresanmauro.it/index.php/component/icagenda/145-egittolo
 gia/2024-11-07-16-00
END:VEVENT
END:VCALENDAR
