BEGIN:VCALENDAR
VERSION:2.0
PRODID:-//Unitre San Mauro//NONSGML kigkonsult.se iCalcreator 2.30.10//
CALSCALE:GREGORIAN
METHOD:PUBLISH
UID:ae85f47f-73a1-4486-9f90-afad0ea835a0
X-WR-CALNAME:iCagenda
X-WR-CALDESC:Event Management Extension for Joomla!
X-WR-RELCALID:3E26604A-50F4-4449-8B3E-E4F4932D05B5
X-WR-TIMEZONE:UTC
BEGIN:VTIMEZONE
TZID:UTC
END:VTIMEZONE
BEGIN:VEVENT
UID:59c97016-c0ed-4bc4-a05a-7abd5d5f59d6
DTSTAMP:20260425T043100Z
CATEGORIES:Corsi e incontri
CLASS:PUBLIC
DESCRIPTION:
DTSTART:20250213T160000Z
DTEND:20250213T160000Z
GEO:00;0
LOCATION:
ORGANIZER:
SEQUENCE:1
SUMMARY:Egittologia
TRANSP:OPAQUE
URL:https://www.unitresanmauro.it/index.php/component/icagenda/145-egittolo
 gia
END:VEVENT
END:VCALENDAR
