BEGIN:VCALENDAR
VERSION:2.0
PRODID:-//Unitre San Mauro//NONSGML kigkonsult.se iCalcreator 2.30.10//
CALSCALE:GREGORIAN
METHOD:PUBLISH
UID:9cb3f008-6168-4a4c-bf9b-56369ad6c4cb
X-WR-CALNAME:iCagenda
X-WR-CALDESC:Event Management Extension for Joomla!
X-WR-RELCALID:3E26604A-50F4-4449-8B3E-E4F4932D05B5
X-WR-TIMEZONE:UTC
BEGIN:VTIMEZONE
TZID:UTC
END:VTIMEZONE
BEGIN:VEVENT
UID:46c005d9-8e53-42bf-ba32-cfe02d086fe7
DTSTAMP:20260425T043055Z
CATEGORIES:Corsi e incontri
CLASS:PUBLIC
DESCRIPTION:
DTSTART:20241025T160000Z
DTEND:20241025T160000Z
GEO:00;0
LOCATION:
ORGANIZER:
SEQUENCE:1
SUMMARY:Viaggio nella giustizia italiana
TRANSP:OPAQUE
URL:https://www.unitresanmauro.it/index.php/component/icagenda/146-viaggio-
 nella-giustizia-italiana/2024-10-25-16-00
END:VEVENT
END:VCALENDAR
