BEGIN:VCALENDAR
VERSION:2.0
PRODID:-//Unitre San Mauro//NONSGML kigkonsult.se iCalcreator 2.30.10//
CALSCALE:GREGORIAN
METHOD:PUBLISH
UID:17fca915-527b-4ff4-9a0b-d704d6d1b3ca
X-WR-CALNAME:iCagenda
X-WR-CALDESC:Event Management Extension for Joomla!
X-WR-RELCALID:3E26604A-50F4-4449-8B3E-E4F4932D05B5
X-WR-TIMEZONE:UTC
BEGIN:VTIMEZONE
TZID:UTC
END:VTIMEZONE
BEGIN:VEVENT
UID:02f2c9b6-cac7-49c7-924e-987afa0ceac1
DTSTAMP:20260425T022917Z
CATEGORIES:Corsi e incontri
CLASS:PUBLIC
DESCRIPTION:
DTSTART:20241122T160000Z
DTEND:20241122T160000Z
GEO:00;0
LOCATION:
ORGANIZER:
SEQUENCE:1
SUMMARY:Viaggio nella giustizia italiana
TRANSP:OPAQUE
URL:https://www.unitresanmauro.it/index.php/component/icagenda/146-viaggio-
 nella-giustizia-italiana/2024-11-22-16-00
END:VEVENT
END:VCALENDAR
