BEGIN:VCALENDAR
VERSION:2.0
PRODID:-//Unitre San Mauro//NONSGML kigkonsult.se iCalcreator 2.30.10//
CALSCALE:GREGORIAN
METHOD:PUBLISH
UID:c3a05396-ddf2-4625-acee-874125584eb0
X-WR-CALNAME:iCagenda
X-WR-CALDESC:Event Management Extension for Joomla!
X-WR-RELCALID:3E26604A-50F4-4449-8B3E-E4F4932D05B5
X-WR-TIMEZONE:UTC
BEGIN:VTIMEZONE
TZID:UTC
END:VTIMEZONE
BEGIN:VEVENT
UID:06e6899c-ea17-45d4-a5a6-3463ede62462
DTSTAMP:20260425T003858Z
CATEGORIES:Corsi e incontri
CLASS:PUBLIC
DESCRIPTION:
DTSTART:20241206T160000Z
DTEND:20241206T160000Z
GEO:00;0
LOCATION:
ORGANIZER:
SEQUENCE:1
SUMMARY:Viaggio nella giustizia italiana
TRANSP:OPAQUE
URL:https://www.unitresanmauro.it/index.php/component/icagenda/146-viaggio-
 nella-giustizia-italiana/2024-12-06-16-00
END:VEVENT
END:VCALENDAR
