BEGIN:VCALENDAR
VERSION:2.0
PRODID:-//Unitre San Mauro//NONSGML kigkonsult.se iCalcreator 2.30.10//
CALSCALE:GREGORIAN
METHOD:PUBLISH
UID:41916e78-b56c-4689-84e7-dcf04afe5e95
X-WR-CALNAME:iCagenda
X-WR-CALDESC:Event Management Extension for Joomla!
X-WR-RELCALID:3E26604A-50F4-4449-8B3E-E4F4932D05B5
X-WR-TIMEZONE:UTC
BEGIN:VTIMEZONE
TZID:UTC
END:VTIMEZONE
BEGIN:VEVENT
UID:a88d7e73-a8d4-4c63-87f9-334d3fdeac9f
DTSTAMP:20260424T225031Z
CATEGORIES:Corsi e incontri
CLASS:PUBLIC
DESCRIPTION:
DTSTART:20250117T160000Z
DTEND:20250117T160000Z
GEO:00;0
LOCATION:
ORGANIZER:
SEQUENCE:1
SUMMARY:Viaggio nella giustizia italiana
TRANSP:OPAQUE
URL:https://www.unitresanmauro.it/index.php/component/icagenda/146-viaggio-
 nella-giustizia-italiana/2025-01-17-16-00
END:VEVENT
END:VCALENDAR
