BEGIN:VCALENDAR
VERSION:2.0
PRODID:-//Unitre San Mauro//NONSGML kigkonsult.se iCalcreator 2.30.10//
CALSCALE:GREGORIAN
METHOD:PUBLISH
UID:818a11e1-b363-4992-aab5-412a8d026827
X-WR-CALNAME:iCagenda
X-WR-CALDESC:Event Management Extension for Joomla!
X-WR-RELCALID:3E26604A-50F4-4449-8B3E-E4F4932D05B5
X-WR-TIMEZONE:UTC
BEGIN:VTIMEZONE
TZID:UTC
END:VTIMEZONE
BEGIN:VEVENT
UID:a5ec0f4f-f6ae-4447-9e24-f39a0a4b7fb5
DTSTAMP:20260425T022900Z
CATEGORIES:Corsi e incontri
CLASS:PUBLIC
DESCRIPTION:
DTSTART:20241104T160000Z
DTEND:20241104T180000Z
GEO:00;0
LOCATION:
ORGANIZER:
SEQUENCE:1
SUMMARY:Conflitti: quando prevenire è meglio che curare
TRANSP:OPAQUE
URL:https://www.unitresanmauro.it/index.php/component/icagenda/148-conflitt
 i-quando-prevenire-e-meglio-che-curare/2024-11-04-16-00
END:VEVENT
END:VCALENDAR
