BEGIN:VCALENDAR
VERSION:2.0
PRODID:-//Unitre San Mauro//NONSGML kigkonsult.se iCalcreator 2.30.10//
CALSCALE:GREGORIAN
METHOD:PUBLISH
UID:2320ffd0-624f-41bb-a466-1723a4e752d9
X-WR-CALNAME:iCagenda
X-WR-CALDESC:Event Management Extension for Joomla!
X-WR-RELCALID:3E26604A-50F4-4449-8B3E-E4F4932D05B5
X-WR-TIMEZONE:UTC
BEGIN:VTIMEZONE
TZID:UTC
END:VTIMEZONE
BEGIN:VEVENT
UID:2ec5dc7e-4f49-4799-8c04-168e3a55a7b9
DTSTAMP:20260424T193450Z
CATEGORIES:Corsi e incontri
CLASS:PUBLIC
DESCRIPTION:
DTSTART:20250310T160000Z
DTEND:20250310T180000Z
GEO:00;0
LOCATION:
ORGANIZER:
SEQUENCE:1
SUMMARY:Il Giallo: che passione!
TRANSP:OPAQUE
URL:https://www.unitresanmauro.it/index.php/component/icagenda/149-il-giall
 o-che-passione/2025-03-10-16-00
END:VEVENT
END:VCALENDAR
