BEGIN:VCALENDAR
VERSION:2.0
PRODID:-//Unitre San Mauro//NONSGML kigkonsult.se iCalcreator 2.30.10//
CALSCALE:GREGORIAN
METHOD:PUBLISH
UID:04b07278-b25b-446e-8172-253dafc1d168
X-WR-CALNAME:iCagenda
X-WR-CALDESC:Event Management Extension for Joomla!
X-WR-RELCALID:3E26604A-50F4-4449-8B3E-E4F4932D05B5
X-WR-TIMEZONE:UTC
BEGIN:VTIMEZONE
TZID:UTC
END:VTIMEZONE
BEGIN:VEVENT
UID:7be6aa1e-eea5-46b0-a0dc-d0cb7f0bb0a8
DTSTAMP:20260424T175240Z
CATEGORIES:Corsi e incontri
CLASS:PUBLIC
DESCRIPTION:
DTSTART:20250407T160000Z
DTEND:20250407T160000Z
GEO:00;0
LOCATION:
ORGANIZER:
SEQUENCE:1
SUMMARY:Il Giallo: che passione!
TRANSP:OPAQUE
URL:https://www.unitresanmauro.it/index.php/component/icagenda/149-il-giall
 o-che-passione/2025-04-07-16-00
END:VEVENT
END:VCALENDAR
