BEGIN:VCALENDAR
VERSION:2.0
PRODID:-//Unitre San Mauro//NONSGML kigkonsult.se iCalcreator 2.30.10//
CALSCALE:GREGORIAN
METHOD:PUBLISH
UID:d71d517b-c61a-465e-992b-a484d5ca8f67
X-WR-CALNAME:iCagenda
X-WR-CALDESC:Event Management Extension for Joomla!
X-WR-RELCALID:3E26604A-50F4-4449-8B3E-E4F4932D05B5
X-WR-TIMEZONE:UTC
BEGIN:VTIMEZONE
TZID:UTC
END:VTIMEZONE
BEGIN:VEVENT
UID:74ef951b-7a22-41d7-95b0-c4c69e8c2ed8
DTSTAMP:20260424T193339Z
CATEGORIES:Corsi e incontri
CLASS:PUBLIC
DESCRIPTION:
DTSTART:20250505T160000Z
DTEND:20250505T160000Z
GEO:00;0
LOCATION:
ORGANIZER:
SEQUENCE:1
SUMMARY:Il Giallo: che passione!
TRANSP:OPAQUE
URL:https://www.unitresanmauro.it/index.php/component/icagenda/149-il-giall
 o-che-passione/2025-05-05-16-00
END:VEVENT
END:VCALENDAR
