BEGIN:VCALENDAR
VERSION:2.0
PRODID:-//Unitre San Mauro//NONSGML kigkonsult.se iCalcreator 2.30.10//
CALSCALE:GREGORIAN
METHOD:PUBLISH
UID:da459e79-07f4-4f57-b52c-b183db45f429
X-WR-CALNAME:iCagenda
X-WR-CALDESC:Event Management Extension for Joomla!
X-WR-RELCALID:3E26604A-50F4-4449-8B3E-E4F4932D05B5
X-WR-TIMEZONE:UTC
BEGIN:VTIMEZONE
TZID:UTC
END:VTIMEZONE
BEGIN:VEVENT
UID:feb942ef-576d-4c53-9b5c-01c2b2c0e535
DTSTAMP:20260425T003904Z
CATEGORIES:Corsi e incontri
CLASS:PUBLIC
DESCRIPTION:
DTSTART:20241202T160000Z
DTEND:20241202T180000Z
GEO:00;0
LOCATION:
ORGANIZER:
SEQUENCE:1
SUMMARY:Storia della misura del tempo: gli orologi solari
TRANSP:OPAQUE
URL:https://www.unitresanmauro.it/index.php/component/icagenda/150-storia-d
 ella-misura-del-tempo-gli-orologi-solari/2024-12-02-16-00
END:VEVENT
END:VCALENDAR
