BEGIN:VCALENDAR
VERSION:2.0
PRODID:-//Unitre San Mauro//NONSGML kigkonsult.se iCalcreator 2.30.10//
CALSCALE:GREGORIAN
METHOD:PUBLISH
UID:ef55ad73-bce2-4f3f-a483-b62e897f1861
X-WR-CALNAME:iCagenda
X-WR-CALDESC:Event Management Extension for Joomla!
X-WR-RELCALID:3E26604A-50F4-4449-8B3E-E4F4932D05B5
X-WR-TIMEZONE:UTC
BEGIN:VTIMEZONE
TZID:UTC
END:VTIMEZONE
BEGIN:VEVENT
UID:447117c4-2f70-4892-802d-f5089d0aedab
DTSTAMP:20260424T224950Z
CATEGORIES:Corsi e incontri
CLASS:PUBLIC
DESCRIPTION:
DTSTART:20250113T160000Z
DTEND:20250113T180000Z
GEO:00;0
LOCATION:
ORGANIZER:
SEQUENCE:1
SUMMARY:Una passeggiata in Naturopatia
TRANSP:OPAQUE
URL:https://www.unitresanmauro.it/index.php/component/icagenda/151-una-pass
 eggiata-in-naturopatia/2025-01-13-16-00
END:VEVENT
END:VCALENDAR
