BEGIN:VCALENDAR
VERSION:2.0
PRODID:-//Unitre San Mauro//NONSGML kigkonsult.se iCalcreator 2.30.10//
CALSCALE:GREGORIAN
METHOD:PUBLISH
UID:bd48bd6d-937b-4290-9e49-a01a6faeac58
X-WR-CALNAME:iCagenda
X-WR-CALDESC:Event Management Extension for Joomla!
X-WR-RELCALID:3E26604A-50F4-4449-8B3E-E4F4932D05B5
X-WR-TIMEZONE:UTC
BEGIN:VTIMEZONE
TZID:UTC
END:VTIMEZONE
BEGIN:VEVENT
UID:8f6f0248-5792-48d4-9ed1-ef5ca60ef5e8
DTSTAMP:20260424T224950Z
CATEGORIES:Corsi e incontri
CLASS:PUBLIC
DESCRIPTION:
DTSTART:20250127T160000Z
DTEND:20250127T160000Z
GEO:00;0
LOCATION:
ORGANIZER:
SEQUENCE:1
SUMMARY:Una passeggiata in Naturopatia
TRANSP:OPAQUE
URL:https://www.unitresanmauro.it/index.php/component/icagenda/151-una-pass
 eggiata-in-naturopatia/2025-01-27-16-00
END:VEVENT
END:VCALENDAR
