BEGIN:VCALENDAR
VERSION:2.0
PRODID:-//Unitre San Mauro//NONSGML kigkonsult.se iCalcreator 2.30.10//
CALSCALE:GREGORIAN
METHOD:PUBLISH
UID:b94088fe-82a8-482a-81d8-e184633d31fc
X-WR-CALNAME:iCagenda
X-WR-CALDESC:Event Management Extension for Joomla!
X-WR-RELCALID:3E26604A-50F4-4449-8B3E-E4F4932D05B5
X-WR-TIMEZONE:UTC
BEGIN:VTIMEZONE
TZID:UTC
END:VTIMEZONE
BEGIN:VEVENT
UID:5c1cab47-8699-47ec-a6f0-12c949ffabf8
DTSTAMP:20260424T175732Z
CATEGORIES:Corsi e incontri
CLASS:PUBLIC
DESCRIPTION:
DTSTART:20250408T160000Z
DTEND:20250408T180000Z
GEO:00;0
LOCATION:
ORGANIZER:
SEQUENCE:1
SUMMARY:Circondati dalla storia: come leggere l'archittettura intornoa noi
TRANSP:OPAQUE
URL:https://www.unitresanmauro.it/index.php/component/icagenda/152-circonda
 ti-dalla-storia-come-leggere-larchittettura-intornoa-noi/2025-04-08-16-00
END:VEVENT
END:VCALENDAR
