BEGIN:VCALENDAR
VERSION:2.0
PRODID:-//Unitre San Mauro//NONSGML kigkonsult.se iCalcreator 2.30.10//
CALSCALE:GREGORIAN
METHOD:PUBLISH
UID:a37f4634-9d3b-4467-825a-ca9e333704da
X-WR-CALNAME:iCagenda
X-WR-CALDESC:Event Management Extension for Joomla!
X-WR-RELCALID:3E26604A-50F4-4449-8B3E-E4F4932D05B5
X-WR-TIMEZONE:UTC
BEGIN:VTIMEZONE
TZID:UTC
END:VTIMEZONE
BEGIN:VEVENT
UID:5585f70c-c130-49f1-bcf2-51bb3e0dc83e
DTSTAMP:20260424T175657Z
CATEGORIES:Corsi e incontri
CLASS:PUBLIC
DESCRIPTION:
DTSTART:20250429T160000Z
DTEND:20250429T180000Z
GEO:00;0
LOCATION:
ORGANIZER:
SEQUENCE:1
SUMMARY:di qua e di là del Po: storia e storie del grande fiume
TRANSP:OPAQUE
URL:https://www.unitresanmauro.it/index.php/component/icagenda/153-di-qua-e
 -di-la-del-po-storia-e-storie-del-grande-fiume/2025-04-29-16-00
END:VEVENT
END:VCALENDAR
